BEGIN:VCALENDAR
METHOD:PUBLISH
VERSION:2.0
PRODID:-//Adopt-a-Road Cleanup || Parsons Rd//Calendar//EN

BEGIN:VEVENT
SUMMARY:Johns Creek-North Fulton | Adopt-a-Road Cleanup || Parsons Rd
DESCRIPTION:Parsons Rd west of Medlock Bridge Rd to Abbots Bridge Rd. Meet at Randolph Hall subdivision tennis courts parking lot\, 5655 Wake Forrest Run.
X-ALT-DESC:<p><span style="color: rgb(0, 0, 0); font-family: Arial, sans-serif; font-size: medium; font-style: normal; font-variant-caps: normal; font-weight: normal; letter-spacing: normal; orphans: auto; text-align: left; text-indent: 0px; text-transform: none; white-space: normal; widows: auto; word-spacing: 0px; -webkit-text-size-adjust: auto; -webkit-text-stroke-width: 0px; display: inline !important; float: none;">Parsons Rd west of Medlock Bridge Rd to Abbots Bridge Rd. Meet at Randolph Hall subdivision tennis courts parking lot, 5655 Wake Forrest Run.</span></p>
UID:Event7941
DTSTART:20250215T140000Z
DTEND:20250215T153000Z
DTSTAMP:20240719T225426Z
LAST-MODIFIED:20240719T225426Z
END:VEVENT

END:VCALENDAR