BEGIN:VCALENDAR
METHOD:PUBLISH
VERSION:2.0
PRODID:-//Board of Directors//Calendar//EN

BEGIN:VEVENT
SUMMARY:Johns Creek-North Fulton | Board of Directors
DESCRIPTION:
X-ALT-DESC:
UID:Event6870
DTSTART:20230621T131500Z
DTEND:20230621T141500Z
DTSTAMP:20230302T225019Z
LAST-MODIFIED:20230302T225019Z
END:VEVENT

END:VCALENDAR