BEGIN:VCALENDAR
METHOD:PUBLISH
VERSION:2.0
PRODID:-//Board of Directors//Calendar//EN

BEGIN:VEVENT
SUMMARY:Johns Creek-North Fulton | Board of Directors
DESCRIPTION:
X-ALT-DESC:
UID:Event6869
DTSTART:20230517T131500Z
DTEND:20230517T141500Z
DTSTAMP:20230302T224933Z
LAST-MODIFIED:20230302T224933Z
END:VEVENT

END:VCALENDAR